BEGIN:VCALENDAR
VERSION:2.0
METHOD:PUBLISH
CALSCALE:GREGORIAN
BEGIN:VEVENT
UID:6aabff19-2bca-4df4-bea0-f472da16d4fa
SEQUENCE:0
CLASS:PUBLIC
PRIORITY:5
DTSTAMP:20260425T153750Z
CREATED:20260425T153750Z
DTSTART:20260429T150000Z
SUMMARY:Cérémonie civile cimetière Hautmont de Micheline MELOT
LOCATION:20 avenue de ferrière, 59330, Hautmont
BEGIN:VALARM
TRIGGER:-PT30M
ACTION:DISPLAY
DESCRIPTION:Reminder
END:VALARM
END:VEVENT
END:VCALENDAR
