BEGIN:VCALENDAR
VERSION:2.0
METHOD:PUBLISH
CALSCALE:GREGORIAN
BEGIN:VEVENT
UID:340c1fc5-e3a3-4f6c-bca2-645ee248fc52
SEQUENCE:0
CLASS:PUBLIC
PRIORITY:5
DTSTAMP:20260420T143731Z
CREATED:20260420T143731Z
DTSTART:20260424T151500Z
SUMMARY:Inhumation cimetière d'Aniche de Jacqueline DELCAMBRE
LOCATION:Cimetière d'Aniche "Sud", 59580, Aniche
BEGIN:VALARM
TRIGGER:-PT30M
ACTION:DISPLAY
DESCRIPTION:Reminder
END:VALARM
END:VEVENT
END:VCALENDAR
