BEGIN:VCALENDAR
VERSION:2.0
METHOD:PUBLISH
CALSCALE:GREGORIAN
BEGIN:VEVENT
UID:6da64837-3f93-48e5-ba5d-30aa48270473
SEQUENCE:0
CLASS:PUBLIC
PRIORITY:5
DTSTAMP:20260420T160621Z
CREATED:20260420T160621Z
DTSTART:20260419T140000Z
DTEND:20260423T190000Z
SUMMARY:Visites Résidence Funéraire - salon Grenat de Jacqueline DELCAMBRE
LOCATION:63 rue Pasteur, 59490, Somain
BEGIN:VALARM
TRIGGER:-PT30M
ACTION:DISPLAY
DESCRIPTION:Reminder
END:VALARM
END:VEVENT
END:VCALENDAR
