BEGIN:VCALENDAR
VERSION:2.0
METHOD:PUBLISH
CALSCALE:GREGORIAN
BEGIN:VEVENT
UID:60c3486c-71dd-401c-acde-b048c7da57f3
SEQUENCE:0
CLASS:PUBLIC
PRIORITY:5
DTSTAMP:20260420T160626Z
CREATED:20260420T160626Z
DTSTART:20260424T143000Z
SUMMARY:Cérémonie religieuse de Jacqueline DELCAMBRE
LOCATION:Place Jean-Jaurès, Eglise Saint-Martin, 59580, ANICHE
BEGIN:VALARM
TRIGGER:-PT30M
ACTION:DISPLAY
DESCRIPTION:Reminder
END:VALARM
END:VEVENT
END:VCALENDAR
