BEGIN:VCALENDAR
VERSION:2.0
METHOD:PUBLISH
CALSCALE:GREGORIAN
BEGIN:VEVENT
UID:00cf9ddc-4726-4566-9de3-f04715ba931d
SEQUENCE:0
CLASS:PUBLIC
PRIORITY:5
DTSTAMP:20260420T143727Z
CREATED:20260420T143727Z
DTSTART:20260420T143000Z
SUMMARY:Crémation de Christiane GUSZCZAK
LOCATION:rue Léon Blum, Crématorium de ROOST-WARENDIN, 59286, ROOST WARENDIN
BEGIN:VALARM
TRIGGER:-PT30M
ACTION:DISPLAY
DESCRIPTION:Reminder
END:VALARM
END:VEVENT
END:VCALENDAR
