BEGIN:VCALENDAR
VERSION:2.0
METHOD:PUBLISH
CALSCALE:GREGORIAN
BEGIN:VEVENT
UID:d4e5a11f-69f9-4d7a-bb68-af0391e8a74c
SEQUENCE:0
CLASS:PUBLIC
PRIORITY:5
DTSTAMP:20260420T064138Z
CREATED:20260420T064138Z
DTSTART:20260420T163000Z
SUMMARY:Dispersion au jardin du souvenir de Yohan AVERLANT
LOCATION:59124, Escaudain
BEGIN:VALARM
TRIGGER:-PT30M
ACTION:DISPLAY
DESCRIPTION:Reminder
END:VALARM
END:VEVENT
END:VCALENDAR
