BEGIN:VCALENDAR
VERSION:2.0
METHOD:PUBLISH
CALSCALE:GREGORIAN
BEGIN:VEVENT
UID:6cf69c84-081e-4e1b-a486-bc15e907eb0a
SEQUENCE:0
CLASS:PUBLIC
PRIORITY:5
DTSTAMP:20260419T145432Z
CREATED:20260419T145432Z
DTSTART:20260420T103000Z
SUMMARY:Cérémonie religieuse de Yohan AVERLANT
LOCATION:rue Clodomir Becar, Eglise Saint-Brice, 59215, ABSCON
BEGIN:VALARM
TRIGGER:-PT30M
ACTION:DISPLAY
DESCRIPTION:Reminder
END:VALARM
END:VEVENT
END:VCALENDAR
