BEGIN:VCALENDAR
VERSION:2.0
METHOD:PUBLISH
CALSCALE:GREGORIAN
BEGIN:VEVENT
UID:15ae2695-93f5-4389-8bfc-9cfa38770628
SEQUENCE:0
CLASS:PUBLIC
PRIORITY:5
DTSTAMP:20260419T223421Z
CREATED:20260419T223421Z
DTSTART:20241107T143000Z
SUMMARY:Cérémonie religieuse de Nicole CARLIER
LOCATION:42 rue Jean-Jaurès, Eglise Saint-André, 59179, FENAIN
BEGIN:VALARM
TRIGGER:-PT30M
ACTION:DISPLAY
DESCRIPTION:Reminder
END:VALARM
END:VEVENT
END:VCALENDAR
